BEGIN:VCALENDAR
VERSION:2.0
PRODID:-//The Lincoln Squirrel – News, features and photos from Lincoln, Mass. - ECPv6.15.20//NONSGML v1.0//EN
CALSCALE:GREGORIAN
METHOD:PUBLISH
X-WR-CALNAME:The Lincoln Squirrel – News, features and photos from Lincoln, Mass.
X-ORIGINAL-URL:https://lincolnsquirrel.com
X-WR-CALDESC:Events for The Lincoln Squirrel – News, features and photos from Lincoln, Mass.
REFRESH-INTERVAL;VALUE=DURATION:PT1H
X-Robots-Tag:noindex
X-PUBLISHED-TTL:PT1H
BEGIN:VTIMEZONE
TZID:America/New_York
BEGIN:DAYLIGHT
TZOFFSETFROM:-0500
TZOFFSETTO:-0400
TZNAME:EDT
DTSTART:20250309T070000
END:DAYLIGHT
BEGIN:STANDARD
TZOFFSETFROM:-0400
TZOFFSETTO:-0500
TZNAME:EST
DTSTART:20251102T060000
END:STANDARD
BEGIN:DAYLIGHT
TZOFFSETFROM:-0500
TZOFFSETTO:-0400
TZNAME:EDT
DTSTART:20260308T070000
END:DAYLIGHT
BEGIN:STANDARD
TZOFFSETFROM:-0400
TZOFFSETTO:-0500
TZNAME:EST
DTSTART:20261101T060000
END:STANDARD
BEGIN:DAYLIGHT
TZOFFSETFROM:-0500
TZOFFSETTO:-0400
TZNAME:EDT
DTSTART:20270314T070000
END:DAYLIGHT
BEGIN:STANDARD
TZOFFSETFROM:-0400
TZOFFSETTO:-0500
TZNAME:EST
DTSTART:20271107T060000
END:STANDARD
END:VTIMEZONE
BEGIN:VEVENT
DTSTART;TZID=America/New_York:20260528T083000
DTEND;TZID=America/New_York:20260528T093000
DTSTAMP:20260425T182717
CREATED:20260423T215427Z
LAST-MODIFIED:20260423T215523Z
UID:38970-1779957000-1779960600@lincolnsquirrel.com
SUMMARY:Kindergarten orientation #1
DESCRIPTION:Rising kindergarteners and their parent(s)/caregiver(s) are invited to come to school on Thursday\, May 28 from 8:30–9:30am or 1:00–2:00pm for Kindergarten Orientation. We will meet in the Learning Commons and then walk the children to a kindergarten classroom where they will play\, color\, enjoy a read aloud and more. Click here to learn more and register for orientation\, or to enroll your child in kindergarten.
URL:https://lincolnsquirrel.com/event/kindergarten-orientation/
LOCATION:Lincoln School Learning Commons\, 6 Ballfield Rd\, Lincoln\, MA\, United States
END:VEVENT
BEGIN:VEVENT
DTSTART;TZID=America/New_York:20260528T130000
DTEND;TZID=America/New_York:20260528T140000
DTSTAMP:20260425T182717
CREATED:20260423T215511Z
LAST-MODIFIED:20260423T215511Z
UID:38972-1779973200-1779976800@lincolnsquirrel.com
SUMMARY:Kindergarten orientation #2
DESCRIPTION:Rising kindergarteners and their parent(s)/caregiver(s) are invited to come to school on Thursday\, May 28 from 8:30–9:30am or 1:00–2:00pm for Kindergarten Orientation. We will meet in the Learning Commons and then walk the children to a kindergarten classroom where they will play\, color\, enjoy a read aloud and more. Click here to learn more and register for orientation\, or to enroll your child in kindergarten.
URL:https://lincolnsquirrel.com/event/kindergarten-orientation-2/
LOCATION:Lincoln School Learning Commons\, 6 Ballfield Rd\, Lincoln\, MA\, United States
END:VEVENT
END:VCALENDAR