BEGIN:VCALENDAR
VERSION:2.0
PRODID:-//The Lincoln Squirrel – News, features and photos from Lincoln, Mass. - ECPv6.15.20//NONSGML v1.0//EN
CALSCALE:GREGORIAN
METHOD:PUBLISH
X-ORIGINAL-URL:https://lincolnsquirrel.com
X-WR-CALDESC:Events for The Lincoln Squirrel – News, features and photos from Lincoln, Mass.
REFRESH-INTERVAL;VALUE=DURATION:PT1H
X-Robots-Tag:noindex
X-PUBLISHED-TTL:PT1H
BEGIN:VTIMEZONE
TZID:America/New_York
BEGIN:DAYLIGHT
TZOFFSETFROM:-0500
TZOFFSETTO:-0400
TZNAME:EDT
DTSTART:20250309T070000
END:DAYLIGHT
BEGIN:STANDARD
TZOFFSETFROM:-0400
TZOFFSETTO:-0500
TZNAME:EST
DTSTART:20251102T060000
END:STANDARD
BEGIN:DAYLIGHT
TZOFFSETFROM:-0500
TZOFFSETTO:-0400
TZNAME:EDT
DTSTART:20260308T070000
END:DAYLIGHT
BEGIN:STANDARD
TZOFFSETFROM:-0400
TZOFFSETTO:-0500
TZNAME:EST
DTSTART:20261101T060000
END:STANDARD
BEGIN:DAYLIGHT
TZOFFSETFROM:-0500
TZOFFSETTO:-0400
TZNAME:EDT
DTSTART:20270314T070000
END:DAYLIGHT
BEGIN:STANDARD
TZOFFSETFROM:-0400
TZOFFSETTO:-0500
TZNAME:EST
DTSTART:20271107T060000
END:STANDARD
END:VTIMEZONE
BEGIN:VEVENT
DTSTART;TZID=America/New_York:20260425T183000
DTEND;TZID=America/New_York:20260425T203000
DTSTAMP:20260421T213233
CREATED:20260421T222500Z
LAST-MODIFIED:20260421T222500Z
UID:38923-1777141800-1777149000@lincolnsquirrel.com
SUMMARY:Free wine/beer-tasting to aid DVR
DESCRIPTION:The Sudbury-Wayland-Lincoln Domestic Violence Roundtable invites the public to a free wine and beer tasting to support its annual Shower for Safety at Spirits Liquor Store (4 Digital Way\, Suite 3\, Maynard) on Friday\, April 25 from 6:30–8:30pm. There will also be a brief presentation by a survivor. Please bring a new\, unwrapped housewarming gift for clients of Reach Beyond Domestic Violence\, and Voices Against Violence. Requested items include linens (twin sheets and pillowcases\, blankets\, comforters\, pillows)\, towels and face cloths\, unscented cleaning products and laundry detergent\, laundry baskets\, kitchen utensils\, flatware\, dishes\, drinking glasses\, and small kitchen appliances. Gift cards for supermarkets\, Target\, Walmart\, CVS\, and Walgreen’s are also welcome. To make a cash donation\, please visit the Roundtable website and note that the donation is for Shower for Safety.
URL:https://lincolnsquirrel.com/event/free-wine-beer-tasting-to-aid-dvr/
LOCATION:Spirits Liquor Store\, 4 Digital Way\, Suite 3\, Maynard\, MA\, United States
END:VEVENT
BEGIN:VEVENT
DTSTART;TZID=America/New_York:20260426T140000
DTEND;TZID=America/New_York:20260426T160000
DTSTAMP:20260421T213233
CREATED:20260420T143522Z
LAST-MODIFIED:20260420T143522Z
UID:38913-1777212000-1777219200@lincolnsquirrel.com
SUMMARY:Earth Day walk to Walden Pond
DESCRIPTION:Multiple groups starting from Concord and Lincoln will converge at the Thoreau cabin site on Sunday\, April 26 to celebrate the natural world with music\, inspiring words\, and sharing of wishes and commitments. Meet at 2:00pm at the First Parish in Concord or St. Anne’s Episcopal Church parking lot in Lincoln (a two-mile walk)\, arriving by 3:00pm at the cabin site. The program of speakers and music will last one hour and starts at 3:00 p.m.  You can bring a folding chair if desired. We will try to arrange rides back to the starting point from the state park parking area for folks who prefer not walking back to the church. For more information\, contact Brad Hubbard-Nelson or Alex Chatfield.
URL:https://lincolnsquirrel.com/event/earth-day-walk-to-walden-pond/
LOCATION:St. Anne’s Church\, 147 Concord Rd\, Lincoln\, MA\, United States
END:VEVENT
BEGIN:VEVENT
DTSTART;TZID=America/New_York:20260429T144500
DTEND;TZID=America/New_York:20260429T163000
DTSTAMP:20260421T213233
CREATED:20260407T010538Z
LAST-MODIFIED:20260407T010538Z
UID:38797-1777473900-1777480200@lincolnsquirrel.com
SUMMARY:Speed painter Rob Surette
DESCRIPTION:LEAP (the Lincoln After-school Activities Program) invites you to a high-energy\, family-friendly event with renowned speed painter Rob Surette on Wednesday\, April 29 at 2:45pm in the Lincoln School’s Donaldson Auditorium. Rob will paint iconic figures while sharing messages about creativity\, perseverance\, and finding your passion. Proceeds will help LEAP furnish and enhance its new space in the new community center. Click here to register.
URL:https://lincolnsquirrel.com/event/speed-painter-rob-surette/
LOCATION:Lincoln School auditorium
END:VEVENT
BEGIN:VEVENT
DTSTART;TZID=America/New_York:20260429T183000
DTEND;TZID=America/New_York:20260429T193000
DTSTAMP:20260421T213233
CREATED:20260420T143608Z
LAST-MODIFIED:20260420T143608Z
UID:38915-1777487400-1777491000@lincolnsquirrel.com
SUMMARY:Unmasking Women in Crisis
DESCRIPTION:“Unmasking Women in Crisis: Three Keys to Navigating Life’s Inevitable Big Challenges” is the title of a webinar with Debra Wong sponsored by the Lincoln and Belmont Public Libraries on Wednesday\, April 29 from 6:30–7:30pm. Details and registration here.
URL:https://lincolnsquirrel.com/event/unmasking-women-in-crisis/
LOCATION:Zoom
END:VEVENT
BEGIN:VEVENT
DTSTART;TZID=America/New_York:20260430T150000
DTEND;TZID=America/New_York:20260430T160000
DTSTAMP:20260421T213233
CREATED:20260330T160738Z
LAST-MODIFIED:20260330T160738Z
UID:38731-1777561200-1777564800@lincolnsquirrel.com
SUMMARY:Jazz Concert with 2Slick
DESCRIPTION:2Slick is a jazz quintet with a two-trombone frontline. For more information\, visit www.2slick.net. Sponsored by a grant from the Music Performance Trust Fund\, the Lincoln Council on Aging & Human Services\, and the Friends of the Lincoln COA. 
URL:https://lincolnsquirrel.com/event/jazz-concert-with-2slick/
LOCATION:Bemis Hall\, 15 Bedford Rd\, Lincoln\, MA\, 01773\, United States
END:VEVENT
BEGIN:VEVENT
DTSTART;TZID=America/New_York:20260501T123000
DTEND;TZID=America/New_York:20260501T133000
DTSTAMP:20260421T213233
CREATED:20260421T222732Z
LAST-MODIFIED:20260421T222732Z
UID:38932-1777638600-1777642200@lincolnsquirrel.com
SUMMARY:Author talk: "The Harvey Girls"
DESCRIPTION:Local author Juliette Fay talks about The Harvey Girls\, a big-hearted historic tale of two very different women in the 1920s who must learn to get along and trust each other. Books will be available for purchase.
URL:https://lincolnsquirrel.com/event/author-talk-the-harvey-girls/
LOCATION:Bemis Hall\, 15 Bedford Rd\, Lincoln\, MA\, 01773\, United States
END:VEVENT
BEGIN:VEVENT
DTSTART;TZID=America/New_York:20260506T180000
DTEND;TZID=America/New_York:20260506T200000
DTSTAMP:20260421T213233
CREATED:20260421T222606Z
LAST-MODIFIED:20260421T222606Z
UID:38927-1778090400-1778097600@lincolnsquirrel.com
SUMMARY:Plant-based potluck
DESCRIPTION:Have you wanted to eat more sustainably but need inspiration for good recipes? CFREE recently posted a 12-week series on the benefits of a plant-based diet and is celebrating with a potluck to share recipes as a community on Wednesday\, May 6 from 6:00–8:00pm in Bemis Hall. Bring your favorite vegan dish to share. Click here to register and learn more details. 
URL:https://lincolnsquirrel.com/event/plant-based-potluck/
LOCATION:Bemis Hall\, 15 Bedford Rd\, Lincoln\, MA\, 01773\, United States
END:VEVENT
BEGIN:VEVENT
DTSTART;TZID=America/New_York:20260508T123000
DTEND;TZID=America/New_York:20260508T133000
DTSTAMP:20260421T213233
CREATED:20260421T222812Z
LAST-MODIFIED:20260421T222812Z
UID:38935-1778243400-1778247000@lincolnsquirrel.com
SUMMARY:Abigail Adams: Liberty & Legacy
DESCRIPTION:Actress and storyteller Sheryl Faye stages an immersive multimedia live performance as Abigail Adams as the fearless political thinker\, advocate for women’s rights and strong moral compass during the American Revolution. Sponsored by Friends of Lincoln COA & Friends of the Lincoln Library.
URL:https://lincolnsquirrel.com/event/abigail-adams-liberty-legacy/
LOCATION:Bemis Hall\, 15 Bedford Rd\, Lincoln\, MA\, 01773\, United States
END:VEVENT
BEGIN:VEVENT
DTSTART;TZID=America/New_York:20260510T130000
DTEND;TZID=America/New_York:20260510T140000
DTSTAMP:20260421T213233
CREATED:20260421T222959Z
LAST-MODIFIED:20260421T222959Z
UID:38941-1778418000-1778421600@lincolnsquirrel.com
SUMMARY:Curator tour of "Nature Sanctuary"
DESCRIPTION:Get to know the deCordova Sculpture Park and Museum’s current exhibition\, “Nature Sanctuary\,” with a curator-led tour on Sunday\, May 10 from 1:00–2:00pm.
URL:https://lincolnsquirrel.com/event/curator-tour-of-nature-sanctuary/
LOCATION:deCordova Sculpture Park & Museum\, 51 Sandy Pond Rd.\, Lincoln\, MA\, 01773\, United States
END:VEVENT
BEGIN:VEVENT
DTSTART;TZID=America/New_York:20260511T190000
DTEND;TZID=America/New_York:20260511T220000
DTSTAMP:20260421T213233
CREATED:20260421T223248Z
LAST-MODIFIED:20260421T223248Z
UID:38946-1778526000-1778536800@lincolnsquirrel.com
SUMMARY:LOMA: The Fretbenders
DESCRIPTION:The Fretbenders (Diane & Bob Kordas) will be the headliners at the next Lincoln Open Mic Acoustic (LOMA) on Monday\, May 11 from 7–10 p.m. in Bemis Hall (doors open at 6:30pm\, feature performers play from 8:30-9:00pm). LOMA is a monthly open mike night event with mikes and instrumental pickups suitable for individuals or small groups playing acoustic-style. Come and perform (email loma3re@gmail.com to sign up) or just come listen to acoustic music and spoken word. Free admission.
URL:https://lincolnsquirrel.com/event/loma-the-fretbenders/
LOCATION:Bemis Hall\, 15 Bedford Rd\, Lincoln\, MA\, 01773\, United States
END:VEVENT
BEGIN:VEVENT
DTSTART;TZID=America/New_York:20260515T123000
DTEND;TZID=America/New_York:20260515T133000
DTSTAMP:20260421T213233
CREATED:20260421T222845Z
LAST-MODIFIED:20260421T222845Z
UID:38937-1778848200-1778851800@lincolnsquirrel.com
SUMMARY:“Live Your Best Life” Health Fair
DESCRIPTION:Get your questions answered and visit resource tables staffed by Lincoln police and fire\, the town nurse\, care managers\, elder law attorneys\, home care agencies\, independent and assisted living facilities\, Minuteman Senior Services\, the Boston Center for Memory\, Perkins Low Vision\, Medical Alert\, Carleton Willard at Home\, and more.
URL:https://lincolnsquirrel.com/event/live-your-best-life-health-fair-2/
LOCATION:Bemis Hall\, 15 Bedford Rd\, Lincoln\, MA\, 01773\, United States
END:VEVENT
BEGIN:VEVENT
DTSTART;TZID=America/New_York:20260516T090000
DTEND;TZID=America/New_York:20260516T130000
DTSTAMP:20260421T213233
CREATED:20260421T223545Z
LAST-MODIFIED:20260421T223545Z
UID:38950-1778922000-1778936400@lincolnsquirrel.com
SUMMARY:Used bike drive
DESCRIPTION:Lincoln CFREE\, Green Newton\, and MetroWest Climate Solutions are co-sponsoring a bike drive on Saturday\, May 16 from 9:00am–1:00pm in Wayland Town Center behind Ace Hardware (see map). Donated bikes will be delivered to the Lowell Bike Connector\, where they will be fixed up and distributed to kids and adults in need of low-cost\, local transportation. Click here to register (registration optional).
URL:https://lincolnsquirrel.com/event/used-bike-drive/
LOCATION:Wayland Town Center\, 70 Andrew Ave.\, Wayland\, MA\, United States
END:VEVENT
BEGIN:VEVENT
DTSTART;TZID=America/New_York:20260516T200000
DTEND;TZID=America/New_York:20260516T230000
DTSTAMP:20260421T213233
CREATED:20260421T223322Z
LAST-MODIFIED:20260421T223322Z
UID:38948-1778961600-1778972400@lincolnsquirrel.com
SUMMARY:Club Codman
DESCRIPTION:Codman Community Farms’ annual Club Codman fundraiser is on Saturday\, May 16 from 8:00–11:00pm. It’s an adults-only\, costume-optional dance party to welcome spring. Costumes from past events have included a dress made from Codman egg cartons\, Lincoln’s very own black bear\, and the legendary “farm store shoplifter” complete with a jacket stuffed with produce and other merchandise. Buy tickets here.
URL:https://lincolnsquirrel.com/event/club-codman-2/
LOCATION:Codman Community Farms\, 58 Codman Rd\, Lincoln\, MA\, 01773\, United States
END:VEVENT
BEGIN:VEVENT
DTSTART;TZID=America/New_York:20260517T130000
DTEND;TZID=America/New_York:20260517T150000
DTSTAMP:20260421T213233
CREATED:20260421T223220Z
LAST-MODIFIED:20260421T223220Z
UID:38943-1779022800-1779030000@lincolnsquirrel.com
SUMMARY:Workshop on cyanotype
DESCRIPTION:Join artist and author Madge Evers for a hands-on workshop\, “About Printing with the Sun: Botanical Cyanotypes\,” to learn the fundamentals of cyanotype as both a creative practice and a way to engage deeply with natural materials and light. More information and registration.
URL:https://lincolnsquirrel.com/event/workshop-on-cyanotype/
LOCATION:deCordova Sculpture Park & Museum\, 51 Sandy Pond Rd.\, Lincoln\, MA\, 01773\, United States
END:VEVENT
BEGIN:VEVENT
DTSTART;TZID=America/New_York:20260522T123000
DTEND;TZID=America/New_York:20260522T133000
DTSTAMP:20260421T213233
CREATED:20260421T222921Z
LAST-MODIFIED:20260421T222921Z
UID:38939-1779453000-1779456600@lincolnsquirrel.com
SUMMARY:Hip Hop Square Dance for Seniors
DESCRIPTION:This class is designed for maximum fun while doing a low-impact activity. Grab your cowboy hat and boots and join us for a boot-scooting boogie! Sponsored by a grant from the Lincoln Cultural Council\, a local agency which is supported by the Mass. Cultural Council.
URL:https://lincolnsquirrel.com/event/hip-hop-square-dance-for-seniors/
LOCATION:Bemis Hall\, 15 Bedford Rd\, Lincoln\, MA\, 01773\, United States
END:VEVENT
END:VCALENDAR