BEGIN:VCALENDAR
VERSION:2.0
PRODID:-//The Lincoln Squirrel – News, features and photos from Lincoln, Mass. - ECPv6.15.20//NONSGML v1.0//EN
CALSCALE:GREGORIAN
METHOD:PUBLISH
X-WR-CALNAME:The Lincoln Squirrel – News, features and photos from Lincoln, Mass.
X-ORIGINAL-URL:https://lincolnsquirrel.com
X-WR-CALDESC:Events for The Lincoln Squirrel – News, features and photos from Lincoln, Mass.
REFRESH-INTERVAL;VALUE=DURATION:PT1H
X-Robots-Tag:noindex
X-PUBLISHED-TTL:PT1H
BEGIN:VTIMEZONE
TZID:America/New_York
BEGIN:DAYLIGHT
TZOFFSETFROM:-0500
TZOFFSETTO:-0400
TZNAME:EDT
DTSTART:20250309T070000
END:DAYLIGHT
BEGIN:STANDARD
TZOFFSETFROM:-0400
TZOFFSETTO:-0500
TZNAME:EST
DTSTART:20251102T060000
END:STANDARD
BEGIN:DAYLIGHT
TZOFFSETFROM:-0500
TZOFFSETTO:-0400
TZNAME:EDT
DTSTART:20260308T070000
END:DAYLIGHT
BEGIN:STANDARD
TZOFFSETFROM:-0400
TZOFFSETTO:-0500
TZNAME:EST
DTSTART:20261101T060000
END:STANDARD
BEGIN:DAYLIGHT
TZOFFSETFROM:-0500
TZOFFSETTO:-0400
TZNAME:EDT
DTSTART:20270314T070000
END:DAYLIGHT
BEGIN:STANDARD
TZOFFSETFROM:-0400
TZOFFSETTO:-0500
TZNAME:EST
DTSTART:20271107T060000
END:STANDARD
END:VTIMEZONE
BEGIN:VEVENT
DTSTART;TZID=America/New_York:20260422T100000
DTEND;TZID=America/New_York:20260422T120000
DTSTAMP:20260422T204222
CREATED:20260401T183902Z
LAST-MODIFIED:20260401T183902Z
UID:38779-1776852000-1776859200@lincolnsquirrel.com
SUMMARY:Earth Day at deCordova
DESCRIPTION:Celebrate Earth Day at deCordova with a hands-on maker space inspired by the natural world on Wednesday\, April 22 from 10:00am–noon. Explore themes of sustainability\, renewal\, and our connection to the environment as you experiment with creative and unexpected materials. More information and tickets.
URL:https://lincolnsquirrel.com/event/earth-day-at-decordova/
LOCATION:deCordova Sculpture Park & Museum\, 51 Sandy Pond Rd.\, Lincoln\, MA\, 01773\, United States
END:VEVENT
BEGIN:VEVENT
DTSTART;TZID=America/New_York:20260422T190000
DTEND;TZID=America/New_York:20260422T203000
DTSTAMP:20260422T204222
CREATED:20260410T001922Z
LAST-MODIFIED:20260410T001922Z
UID:38832-1776884400-1776889800@lincolnsquirrel.com
SUMMARY:How Trees Help Fight Climate Change
DESCRIPTION:Trees are one of the simplest and most powerful climate solutions in our communities.\nYet in Boston and many surrounding suburbs\, tree canopy is unevenly distributed. Join us for a free webinar on Wednesday\, April 22 from 7–8:30pm co-sponsored by MetroWest Climate Solutions and CFREE Lincoln to learn how growing our urban forest can help address climate change and strengthen communities across Boston and its suburbs. The speaker is David Meshoulam\, executive director and co-founder of Speak for the Trees\, which works with Boston community members to plant\, preserve\, care\, and advocate for trees and to expand the tree canopy to rebuild resilient neighborhoods. Register here.
URL:https://lincolnsquirrel.com/event/how-trees-help-fight-climate-change/
LOCATION:Zoom
END:VEVENT
END:VCALENDAR