BEGIN:VCALENDAR
VERSION:2.0
PRODID:-//The Lincoln Squirrel – News, features and photos from Lincoln, Mass. - ECPv6.15.20//NONSGML v1.0//EN
CALSCALE:GREGORIAN
METHOD:PUBLISH
X-WR-CALNAME:The Lincoln Squirrel – News, features and photos from Lincoln, Mass.
X-ORIGINAL-URL:https://lincolnsquirrel.com
X-WR-CALDESC:Events for The Lincoln Squirrel – News, features and photos from Lincoln, Mass.
REFRESH-INTERVAL;VALUE=DURATION:PT1H
X-Robots-Tag:noindex
X-PUBLISHED-TTL:PT1H
BEGIN:VTIMEZONE
TZID:America/New_York
BEGIN:DAYLIGHT
TZOFFSETFROM:-0500
TZOFFSETTO:-0400
TZNAME:EDT
DTSTART:20240310T070000
END:DAYLIGHT
BEGIN:STANDARD
TZOFFSETFROM:-0400
TZOFFSETTO:-0500
TZNAME:EST
DTSTART:20241103T060000
END:STANDARD
BEGIN:DAYLIGHT
TZOFFSETFROM:-0500
TZOFFSETTO:-0400
TZNAME:EDT
DTSTART:20250309T070000
END:DAYLIGHT
BEGIN:STANDARD
TZOFFSETFROM:-0400
TZOFFSETTO:-0500
TZNAME:EST
DTSTART:20251102T060000
END:STANDARD
BEGIN:DAYLIGHT
TZOFFSETFROM:-0500
TZOFFSETTO:-0400
TZNAME:EDT
DTSTART:20260308T070000
END:DAYLIGHT
BEGIN:STANDARD
TZOFFSETFROM:-0400
TZOFFSETTO:-0500
TZNAME:EST
DTSTART:20261101T060000
END:STANDARD
END:VTIMEZONE
BEGIN:VEVENT
DTSTART;VALUE=DATE:20250515
DTEND;VALUE=DATE:20250517
DTSTAMP:20260420T151403
CREATED:20250430T212423Z
LAST-MODIFIED:20250430T212444Z
UID:35784-1747267200-1747439999@lincolnsquirrel.com
SUMMARY:Pick up seed kits
DESCRIPTION:Stop by Codman Community Farms all day on Thursday and Friday\, May 15 and 16 to pick up your seed-starting kit with pots\, seeds\, soil\, plant care information and a check-in journal (first come\, first served). Part of Screen Free Week organized by LincolnWait.com.
URL:https://lincolnsquirrel.com/event/35784/
LOCATION:Codman Community Farms\, 58 Codman Rd\, Lincoln\, MA\, 01773\, United States
END:VEVENT
BEGIN:VEVENT
DTSTART;TZID=America/New_York:20250515T183000
DTEND;TZID=America/New_York:20250515T193000
DTSTAMP:20260420T151403
CREATED:20250417T230303Z
LAST-MODIFIED:20250417T230303Z
UID:35572-1747333800-1747337400@lincolnsquirrel.com
SUMMARY:Period house restorer speaks
DESCRIPTION:Massachusetts-based author and preservationist Lee McColgan\, author of A House Restored: The Tragedies and Triumphs of Saving a New England Colonial\, will speak on Thursday\, May 15 from 6:30–7:30pm in the Lincoln School’s Learning Commons. Please RSVP here so organizers can plan refreshments. In his book\, McColgan tells of restoring his 1704 colonial home in Pembroke using period techniques and tools after learning from plasterers\, carpenters\, and other tradespeople. 
URL:https://lincolnsquirrel.com/event/period-house-restorer-speaks/
LOCATION:Lincoln School Learning Commons\, 6 Ballfield Rd\, Lincoln\, MA\, United States
END:VEVENT
END:VCALENDAR