BEGIN:VCALENDAR
VERSION:2.0
PRODID:-//The Lincoln Squirrel – News, features and photos from Lincoln, Mass. - ECPv6.15.20//NONSGML v1.0//EN
CALSCALE:GREGORIAN
METHOD:PUBLISH
X-WR-CALNAME:The Lincoln Squirrel – News, features and photos from Lincoln, Mass.
X-ORIGINAL-URL:https://lincolnsquirrel.com
X-WR-CALDESC:Events for The Lincoln Squirrel – News, features and photos from Lincoln, Mass.
REFRESH-INTERVAL;VALUE=DURATION:PT1H
X-Robots-Tag:noindex
X-PUBLISHED-TTL:PT1H
BEGIN:VTIMEZONE
TZID:America/New_York
BEGIN:DAYLIGHT
TZOFFSETFROM:-0500
TZOFFSETTO:-0400
TZNAME:EDT
DTSTART:20240310T070000
END:DAYLIGHT
BEGIN:STANDARD
TZOFFSETFROM:-0400
TZOFFSETTO:-0500
TZNAME:EST
DTSTART:20241103T060000
END:STANDARD
BEGIN:DAYLIGHT
TZOFFSETFROM:-0500
TZOFFSETTO:-0400
TZNAME:EDT
DTSTART:20250309T070000
END:DAYLIGHT
BEGIN:STANDARD
TZOFFSETFROM:-0400
TZOFFSETTO:-0500
TZNAME:EST
DTSTART:20251102T060000
END:STANDARD
BEGIN:DAYLIGHT
TZOFFSETFROM:-0500
TZOFFSETTO:-0400
TZNAME:EDT
DTSTART:20260308T070000
END:DAYLIGHT
BEGIN:STANDARD
TZOFFSETFROM:-0400
TZOFFSETTO:-0500
TZNAME:EST
DTSTART:20261101T060000
END:STANDARD
END:VTIMEZONE
BEGIN:VEVENT
DTSTART;TZID=America/New_York:20250510T100000
DTEND;TZID=America/New_York:20250510T120000
DTSTAMP:20260421T175301
CREATED:20250416T221517Z
LAST-MODIFIED:20250422T141438Z
UID:35530-1746871200-1746878400@lincolnsquirrel.com
SUMMARY:Lincoln Democrats caucus
DESCRIPTION:The Lincoln Democratic Town Committee (LDC) will elect delegates on Saturday\, May 10 at Bemis Hall for the state convention (doors open at 9:30am and close at 10:15am). Six delegates and four alternates will represent Lincoln in Springfield on September 13. All are welcome\, but only registered Democrats can vote. Youth age 16 and up\, people with disabilities\, people of color\, veterans\, and members of the LGBTQ+ community who aren’t elected as delegates or alternates are encouraged to apply at the caucus or online to be add-on delegates. Those interested in getting involved with the LDC may contact Travis Roland at travis89roland@gmail.com. \n 
URL:https://lincolnsquirrel.com/event/lincoln-democrats-caucus/
LOCATION:Bemis Hall\, 15 Bedford Rd\, Lincoln\, MA\, 01773\, United States
END:VEVENT
BEGIN:VEVENT
DTSTART;TZID=America/New_York:20250510T110000
DTEND;TZID=America/New_York:20250510T140000
DTSTAMP:20260421T175301
CREATED:20250417T230215Z
LAST-MODIFIED:20250417T230215Z
UID:35569-1746874800-1746885600@lincolnsquirrel.com
SUMMARY:Garden Cub plant sale
DESCRIPTION:The Lincoln Garden Club will host their biennial plant sale on Saturday\, May 10 from 11:00am–2:00pm at Station Park (corner of Lincoln Road and Ridge Road). The plants come from our members’ gardens\, the parks we maintain\, and from generous donors around town. If you have plants to donate\, dropoff is from 8:00–10:00am. There will also be garden paraphernalia for sale such as hand-made garden cloches and bluebird nesting boxes as well as native plugs ordered from North Creek Nurseries (blue mist\, Appalachian mountain mint\, and barren strawberry). Many garden club members have seen jumping worm activity on their property. If you haven’t\, please don’t purchase plants from the sale to avoid spread. 
URL:https://lincolnsquirrel.com/event/garden-cub-plant-sale/
LOCATION:Station Park\, Lincoln Rd & Ridge Rd\, Lincoln\, MA\, 01773\, United States
END:VEVENT
END:VCALENDAR