BEGIN:VCALENDAR
VERSION:2.0
PRODID:-//The Lincoln Squirrel – News, features and photos from Lincoln, Mass. - ECPv6.15.20//NONSGML v1.0//EN
CALSCALE:GREGORIAN
METHOD:PUBLISH
X-ORIGINAL-URL:https://lincolnsquirrel.com
X-WR-CALDESC:Events for The Lincoln Squirrel – News, features and photos from Lincoln, Mass.
REFRESH-INTERVAL;VALUE=DURATION:PT1H
X-Robots-Tag:noindex
X-PUBLISHED-TTL:PT1H
BEGIN:VTIMEZONE
TZID:America/New_York
BEGIN:DAYLIGHT
TZOFFSETFROM:-0500
TZOFFSETTO:-0400
TZNAME:EDT
DTSTART:20240310T070000
END:DAYLIGHT
BEGIN:STANDARD
TZOFFSETFROM:-0400
TZOFFSETTO:-0500
TZNAME:EST
DTSTART:20241103T060000
END:STANDARD
BEGIN:DAYLIGHT
TZOFFSETFROM:-0500
TZOFFSETTO:-0400
TZNAME:EDT
DTSTART:20250309T070000
END:DAYLIGHT
BEGIN:STANDARD
TZOFFSETFROM:-0400
TZOFFSETTO:-0500
TZNAME:EST
DTSTART:20251102T060000
END:STANDARD
BEGIN:DAYLIGHT
TZOFFSETFROM:-0500
TZOFFSETTO:-0400
TZNAME:EDT
DTSTART:20260308T070000
END:DAYLIGHT
BEGIN:STANDARD
TZOFFSETFROM:-0400
TZOFFSETTO:-0500
TZNAME:EST
DTSTART:20261101T060000
END:STANDARD
END:VTIMEZONE
BEGIN:VEVENT
DTSTART;TZID=America/New_York:20250427T100000
DTEND;TZID=America/New_York:20250427T113000
DTSTAMP:20260422T053003
CREATED:20250403T005140Z
LAST-MODIFIED:20250403T005140Z
UID:35452-1745748000-1745753400@lincolnsquirrel.com
SUMMARY:Gropius House tour and walk
DESCRIPTION:Come see “A New Kind of Architecture in Harmony with Nature” on a tour of the historic Gropius House (68 Baker Bridge Rd.) on Sunday\, April 27 from 10:00–11:30am. Walter Gropius (1883-1969) founded the Bauhaus school that united art\, nature\, and technology. The tour of his 1938 Lincoln home followed by a walk in the grounds reveal design strategies that have returned to architectural importance for sustainable design in the 21st century. Click here for tickets.
URL:https://lincolnsquirrel.com/event/gropius-house-tour-and-walk/
LOCATION:Gropius House\, 68 Baker Bridge Rd\, Lincoln\, MA\, 01773\, United States
END:VEVENT
END:VCALENDAR