BEGIN:VCALENDAR
VERSION:2.0
PRODID:-//The Lincoln Squirrel – News, features and photos from Lincoln, Mass. - ECPv6.15.20//NONSGML v1.0//EN
CALSCALE:GREGORIAN
METHOD:PUBLISH
X-ORIGINAL-URL:https://lincolnsquirrel.com
X-WR-CALDESC:Events for The Lincoln Squirrel – News, features and photos from Lincoln, Mass.
REFRESH-INTERVAL;VALUE=DURATION:PT1H
X-Robots-Tag:noindex
X-PUBLISHED-TTL:PT1H
BEGIN:VTIMEZONE
TZID:America/New_York
BEGIN:DAYLIGHT
TZOFFSETFROM:-0500
TZOFFSETTO:-0400
TZNAME:EDT
DTSTART:20240310T070000
END:DAYLIGHT
BEGIN:STANDARD
TZOFFSETFROM:-0400
TZOFFSETTO:-0500
TZNAME:EST
DTSTART:20241103T060000
END:STANDARD
BEGIN:DAYLIGHT
TZOFFSETFROM:-0500
TZOFFSETTO:-0400
TZNAME:EDT
DTSTART:20250309T070000
END:DAYLIGHT
BEGIN:STANDARD
TZOFFSETFROM:-0400
TZOFFSETTO:-0500
TZNAME:EST
DTSTART:20251102T060000
END:STANDARD
BEGIN:DAYLIGHT
TZOFFSETFROM:-0500
TZOFFSETTO:-0400
TZNAME:EDT
DTSTART:20260308T070000
END:DAYLIGHT
BEGIN:STANDARD
TZOFFSETFROM:-0400
TZOFFSETTO:-0500
TZNAME:EST
DTSTART:20261101T060000
END:STANDARD
END:VTIMEZONE
BEGIN:VEVENT
DTSTART;TZID=America/New_York:20250426T110000
DTEND;TZID=America/New_York:20250426T160000
DTSTAMP:20260422T065109
CREATED:20250416T221358Z
LAST-MODIFIED:20250416T221358Z
UID:35526-1745665200-1745683200@lincolnsquirrel.com
SUMMARY:Lincoln Comic-Con
DESCRIPTION:The first annual Lincoln Library Comic-Con\, a day of nerdy adventure and fun\, takes place on Saturday\, April 26 from 11:00am–4:00pm. Learn to wield a lightsaber in a Padawan training taught by Jedi\, discover “Magic: The Gathering\,” make your own zine with author/illustrator Sarah Lynne Reul\, find out about how to make your own cosplays with a local expert — plus scavenger hunts\, Mario Kart\, mini painting and more. Bring lunch for a picnic n the awn and make a day of it. Advance registration to get behind-the-scenes sneak peeks of activities is encouraged but not required. Click here for the full schedule.
URL:https://lincolnsquirrel.com/event/lincoln-comic-con/
LOCATION:Lincoln Public Library\, 3 Bedford Rd\, Lincoln\, MA\, United States
END:VEVENT
END:VCALENDAR