BEGIN:VCALENDAR
VERSION:2.0
PRODID:-//The Lincoln Squirrel – News, features and photos from Lincoln, Mass. - ECPv6.15.20//NONSGML v1.0//EN
CALSCALE:GREGORIAN
METHOD:PUBLISH
X-ORIGINAL-URL:https://lincolnsquirrel.com
X-WR-CALDESC:Events for The Lincoln Squirrel – News, features and photos from Lincoln, Mass.
REFRESH-INTERVAL;VALUE=DURATION:PT1H
X-Robots-Tag:noindex
X-PUBLISHED-TTL:PT1H
BEGIN:VTIMEZONE
TZID:America/New_York
BEGIN:DAYLIGHT
TZOFFSETFROM:-0500
TZOFFSETTO:-0400
TZNAME:EDT
DTSTART:20240310T070000
END:DAYLIGHT
BEGIN:STANDARD
TZOFFSETFROM:-0400
TZOFFSETTO:-0500
TZNAME:EST
DTSTART:20241103T060000
END:STANDARD
BEGIN:DAYLIGHT
TZOFFSETFROM:-0500
TZOFFSETTO:-0400
TZNAME:EDT
DTSTART:20250309T070000
END:DAYLIGHT
BEGIN:STANDARD
TZOFFSETFROM:-0400
TZOFFSETTO:-0500
TZNAME:EST
DTSTART:20251102T060000
END:STANDARD
BEGIN:DAYLIGHT
TZOFFSETFROM:-0500
TZOFFSETTO:-0400
TZNAME:EDT
DTSTART:20260308T070000
END:DAYLIGHT
BEGIN:STANDARD
TZOFFSETFROM:-0400
TZOFFSETTO:-0500
TZNAME:EST
DTSTART:20261101T060000
END:STANDARD
END:VTIMEZONE
BEGIN:VEVENT
DTSTART;TZID=America/New_York:20250422T140000
DTEND;TZID=America/New_York:20250422T150000
DTSTAMP:20260422T170235
CREATED:20250329T145342Z
LAST-MODIFIED:20250329T145449Z
UID:35351-1745330400-1745334000@lincolnsquirrel.com
SUMMARY:"Sprouting Up Storytime"
DESCRIPTION:Celebrate Earth Day at the library with a hands-on gardening activity where kids will enjoy stories about the magic of gardening and nature on Tuesday\, April 22 from 2-3pm. Afterwards\, each child will have the chance to plant seeds in an upcycled egg carton perfect for taking home and watching their plants grow. Perfect for kids ages 3-8\, this program combines reading\, crafting\, and a love for nature! Registration is required. This program is funded by the Friends of the Lincoln Library and LLCT. Please bring your own clean\, biodegradable egg carton to the program (there will be extras on hand if needed). Register here.
URL:https://lincolnsquirrel.com/event/sprouting-up-storytime/
LOCATION:Lincoln Public Library\, 3 Bedford Rd\, Lincoln\, MA\, United States
END:VEVENT
END:VCALENDAR