BEGIN:VCALENDAR
VERSION:2.0
PRODID:-//The Lincoln Squirrel – News, features and photos from Lincoln, Mass. - ECPv6.15.20//NONSGML v1.0//EN
CALSCALE:GREGORIAN
METHOD:PUBLISH
X-ORIGINAL-URL:https://lincolnsquirrel.com
X-WR-CALDESC:Events for The Lincoln Squirrel – News, features and photos from Lincoln, Mass.
REFRESH-INTERVAL;VALUE=DURATION:PT1H
X-Robots-Tag:noindex
X-PUBLISHED-TTL:PT1H
BEGIN:VTIMEZONE
TZID:America/New_York
BEGIN:DAYLIGHT
TZOFFSETFROM:-0500
TZOFFSETTO:-0400
TZNAME:EDT
DTSTART:20240310T070000
END:DAYLIGHT
BEGIN:STANDARD
TZOFFSETFROM:-0400
TZOFFSETTO:-0500
TZNAME:EST
DTSTART:20241103T060000
END:STANDARD
BEGIN:DAYLIGHT
TZOFFSETFROM:-0500
TZOFFSETTO:-0400
TZNAME:EDT
DTSTART:20250309T070000
END:DAYLIGHT
BEGIN:STANDARD
TZOFFSETFROM:-0400
TZOFFSETTO:-0500
TZNAME:EST
DTSTART:20251102T060000
END:STANDARD
BEGIN:DAYLIGHT
TZOFFSETFROM:-0500
TZOFFSETTO:-0400
TZNAME:EDT
DTSTART:20260308T070000
END:DAYLIGHT
BEGIN:STANDARD
TZOFFSETFROM:-0400
TZOFFSETTO:-0500
TZNAME:EST
DTSTART:20261101T060000
END:STANDARD
END:VTIMEZONE
BEGIN:VEVENT
DTSTART;TZID=America/New_York:20250421T100000
DTEND;TZID=America/New_York:20250421T140000
DTSTAMP:20260422T182039
CREATED:20250403T222301Z
LAST-MODIFIED:20250416T222346Z
UID:35470-1745229600-1745244000@lincolnsquirrel.com
SUMMARY:Codman Estate/Gropius House open
DESCRIPTION:In a special Patriots’ Day pairing\, “Loyalists and Revolutionaries: Two Iconic Lincoln Properties at the Heart of a Changing World\,” Historic New England invites you walk Lincoln’s trails and visit two of its properties in Lincoln: the Codman Estate and the Walter Gropius House. The properties will be open to the public from 10:00am–2:00pm on Monday\, April 21. Docents will be on site to share information and answer questions. Admission is free\, although donations are always appreciated. \nHome to five generations of the Chambers/Russell/Codman family (1708–1968)\, in the 18th century the Codman Estate was the largest farm in the area with the largest number of enslaved people laboring on it. At the time of the Revolutionary War\, it was owned by Loyalists\, Dr. Charles and Elizabeth Russell\, who fled to Antigua when the war began. Modest in scale\, the 1938 Gropius family home of Walter Gropius (founder of the German design school known as the Bauhaus\, was one of the most influential architects of the 20th century) was revolutionary in impact. In keeping with Bauhaus philosophy\, every aspect of the house and its surrounding landscape was planned for maximum efficiency and simplicity of design.
URL:https://lincolnsquirrel.com/event/loyalists-and-revolutionaries-two-iconic-lincoln-properties-at-the-heart-of-a-changing-world/
LOCATION:MA
END:VEVENT
BEGIN:VEVENT
DTSTART;TZID=America/New_York:20250421T130000
DTEND;TZID=America/New_York:20250421T143000
DTSTAMP:20260422T182039
CREATED:20250416T221240Z
LAST-MODIFIED:20250416T221240Z
UID:35522-1745240400-1745245800@lincolnsquirrel.com
SUMMARY:"Eyes on Owls"
DESCRIPTION:Farrington Nature Linc and LLCT are hosting Eyes on Owls on Monday\, April 21 from 1:00–2:00pm at Nature Linc’s campus (295 Cambridge Turnpike). Learn how to hoot like an owl before meeting six ambassador animals in a live demonstration. This is a ticketed event ($12 or $35 for a family pack); click here to purchase.
URL:https://lincolnsquirrel.com/event/eyes-on-owls/
LOCATION:Farrington Nature Linc\, 291 Cambridge Turnpike\, Lincoln\, MA\, 01773\, United States
END:VEVENT
END:VCALENDAR