BEGIN:VCALENDAR
VERSION:2.0
PRODID:-//The Lincoln Squirrel – News, features and photos from Lincoln, Mass. - ECPv6.15.20//NONSGML v1.0//EN
CALSCALE:GREGORIAN
METHOD:PUBLISH
X-WR-CALNAME:The Lincoln Squirrel – News, features and photos from Lincoln, Mass.
X-ORIGINAL-URL:https://lincolnsquirrel.com
X-WR-CALDESC:Events for The Lincoln Squirrel – News, features and photos from Lincoln, Mass.
REFRESH-INTERVAL;VALUE=DURATION:PT1H
X-Robots-Tag:noindex
X-PUBLISHED-TTL:PT1H
BEGIN:VTIMEZONE
TZID:America/New_York
BEGIN:DAYLIGHT
TZOFFSETFROM:-0500
TZOFFSETTO:-0400
TZNAME:EDT
DTSTART:20240310T070000
END:DAYLIGHT
BEGIN:STANDARD
TZOFFSETFROM:-0400
TZOFFSETTO:-0500
TZNAME:EST
DTSTART:20241103T060000
END:STANDARD
BEGIN:DAYLIGHT
TZOFFSETFROM:-0500
TZOFFSETTO:-0400
TZNAME:EDT
DTSTART:20250309T070000
END:DAYLIGHT
BEGIN:STANDARD
TZOFFSETFROM:-0400
TZOFFSETTO:-0500
TZNAME:EST
DTSTART:20251102T060000
END:STANDARD
BEGIN:DAYLIGHT
TZOFFSETFROM:-0500
TZOFFSETTO:-0400
TZNAME:EDT
DTSTART:20260308T070000
END:DAYLIGHT
BEGIN:STANDARD
TZOFFSETFROM:-0400
TZOFFSETTO:-0500
TZNAME:EST
DTSTART:20261101T060000
END:STANDARD
END:VTIMEZONE
BEGIN:VEVENT
DTSTART;TZID=America/New_York:20250418T110000
DTEND;TZID=America/New_York:20250418T140000
DTSTAMP:20260422T181839
CREATED:20250416T221157Z
LAST-MODIFIED:20250416T221157Z
UID:35519-1744974000-1744984800@lincolnsquirrel.com
SUMMARY:First Parish standout
DESCRIPTION:Join First Parish in Lincoln on Friday\, April 18 from 11:00am–2:00pm for an act of public witness in solidarity with those being targeted by the current administration’s actions. Gather at 11:00am in the Stearns Room (4 Bedford Rd.) for sign-making\, organizing\, and community grounding. Then from 12:00–2:00pm\, we will stand out on our church lawn (and possibly across the street in front of the twisted tree depending on numbers). Come for part of the event or stay the full time. If you’d like to help with providing materials and snacks or drinks\, contact Sarah Klockowski at sarah@fplincoln.org. Special activities and sign-making station for kids.
URL:https://lincolnsquirrel.com/event/first-parish-standout/
LOCATION:First Parish Church\, 4 Bedford Rd\, Lincoln\, MA\, 01773\, United States
END:VEVENT
END:VCALENDAR