BEGIN:VCALENDAR
VERSION:2.0
PRODID:-//The Lincoln Squirrel – News, features and photos from Lincoln, Mass. - ECPv6.15.20//NONSGML v1.0//EN
CALSCALE:GREGORIAN
METHOD:PUBLISH
X-ORIGINAL-URL:https://lincolnsquirrel.com
X-WR-CALDESC:Events for The Lincoln Squirrel – News, features and photos from Lincoln, Mass.
REFRESH-INTERVAL;VALUE=DURATION:PT1H
X-Robots-Tag:noindex
X-PUBLISHED-TTL:PT1H
BEGIN:VTIMEZONE
TZID:America/New_York
BEGIN:DAYLIGHT
TZOFFSETFROM:-0500
TZOFFSETTO:-0400
TZNAME:EDT
DTSTART:20240310T070000
END:DAYLIGHT
BEGIN:STANDARD
TZOFFSETFROM:-0400
TZOFFSETTO:-0500
TZNAME:EST
DTSTART:20241103T060000
END:STANDARD
BEGIN:DAYLIGHT
TZOFFSETFROM:-0500
TZOFFSETTO:-0400
TZNAME:EDT
DTSTART:20250309T070000
END:DAYLIGHT
BEGIN:STANDARD
TZOFFSETFROM:-0400
TZOFFSETTO:-0500
TZNAME:EST
DTSTART:20251102T060000
END:STANDARD
BEGIN:DAYLIGHT
TZOFFSETFROM:-0500
TZOFFSETTO:-0400
TZNAME:EDT
DTSTART:20260308T070000
END:DAYLIGHT
BEGIN:STANDARD
TZOFFSETFROM:-0400
TZOFFSETTO:-0500
TZNAME:EST
DTSTART:20261101T060000
END:STANDARD
END:VTIMEZONE
BEGIN:VEVENT
DTSTART;TZID=America/New_York:20250413T143000
DTEND;TZID=America/New_York:20250413T163000
DTSTAMP:20260422T170225
CREATED:20250324T005438Z
LAST-MODIFIED:20250324T005501Z
UID:35267-1744554600-1744561800@lincolnsquirrel.com
SUMMARY:Volunteer work day for all ages
DESCRIPTION:Click fo details: Volunteer work day for all ages
URL:https://lincolnsquirrel.com/event/volunteer-work-day-for-all-a/
LOCATION:Codman Community Farms\, 58 Codman Rd\, Lincoln\, MA\, 01773\, United States
END:VEVENT
BEGIN:VEVENT
DTSTART;TZID=America/New_York:20250413T163000
DTEND;TZID=America/New_York:20250413T183000
DTSTAMP:20260422T170225
CREATED:20250324T005655Z
LAST-MODIFIED:20250324T005655Z
UID:35272-1744561800-1744569000@lincolnsquirrel.com
SUMMARY:Sunday supper and live entertainment from the Splinters
DESCRIPTION:Click for details: Sunday supper and live entertainment from the Splinters
URL:https://lincolnsquirrel.com/event/sunday-supper-and-live-entertainment-from-the-splinters/
LOCATION:Codman Community Farms\, 58 Codman Rd\, Lincoln\, MA\, 01773\, United States
END:VEVENT
END:VCALENDAR