BEGIN:VCALENDAR
VERSION:2.0
PRODID:-//The Lincoln Squirrel – News, features and photos from Lincoln, Mass. - ECPv6.15.20//NONSGML v1.0//EN
CALSCALE:GREGORIAN
METHOD:PUBLISH
X-ORIGINAL-URL:https://lincolnsquirrel.com
X-WR-CALDESC:Events for The Lincoln Squirrel – News, features and photos from Lincoln, Mass.
REFRESH-INTERVAL;VALUE=DURATION:PT1H
X-Robots-Tag:noindex
X-PUBLISHED-TTL:PT1H
BEGIN:VTIMEZONE
TZID:America/New_York
BEGIN:DAYLIGHT
TZOFFSETFROM:-0500
TZOFFSETTO:-0400
TZNAME:EDT
DTSTART:20240310T070000
END:DAYLIGHT
BEGIN:STANDARD
TZOFFSETFROM:-0400
TZOFFSETTO:-0500
TZNAME:EST
DTSTART:20241103T060000
END:STANDARD
BEGIN:DAYLIGHT
TZOFFSETFROM:-0500
TZOFFSETTO:-0400
TZNAME:EDT
DTSTART:20250309T070000
END:DAYLIGHT
BEGIN:STANDARD
TZOFFSETFROM:-0400
TZOFFSETTO:-0500
TZNAME:EST
DTSTART:20251102T060000
END:STANDARD
BEGIN:DAYLIGHT
TZOFFSETFROM:-0500
TZOFFSETTO:-0400
TZNAME:EDT
DTSTART:20260308T070000
END:DAYLIGHT
BEGIN:STANDARD
TZOFFSETFROM:-0400
TZOFFSETTO:-0500
TZNAME:EST
DTSTART:20261101T060000
END:STANDARD
END:VTIMEZONE
BEGIN:VEVENT
DTSTART;TZID=America/New_York:20250410T153000
DTEND;TZID=America/New_York:20250410T163000
DTSTAMP:20260422T212845
CREATED:20250403T003352Z
LAST-MODIFIED:20250403T003352Z
UID:35435-1744299000-1744302600@lincolnsquirrel.com
SUMMARY:Doo-wop concert
DESCRIPTION:Lincoln’s Doo Wop group will host a concert and cereal drive on Thursday\, April 10 at 3:30pm in Bemis Hall. Please bring boxes of cereal to benefit the Lincoln Food Pantry
URL:https://lincolnsquirrel.com/event/doo-wop-concert/
LOCATION:Bemis Hall\, 15 Bedford Rd\, Lincoln\, MA\, 01773\, United States
END:VEVENT
BEGIN:VEVENT
DTSTART;TZID=America/New_York:20250410T190000
DTEND;TZID=America/New_York:20250410T200000
DTSTAMP:20260422T212845
CREATED:20250329T140516Z
LAST-MODIFIED:20250329T140516Z
UID:35342-1744311600-1744315200@lincolnsquirrel.com
SUMMARY:"Myths of the Battle of Lexington-Concord"
DESCRIPTION:On Thursday\, April 10 from 7-8pm on Zoom\, Lincoln Minute Man and Historian Rick Wiggin will discuss what truly happened in Lexington\, Concord\, and most importantly\, Lincoln\, on April 19\, 1775 and how it became mythologized over time. The day was a one-sided massacre without return fire. By the centennial anniversary\, the idea of the battle had become accepted history. Rick will dispel many of the popular myths of this pivotal day on Battle Road. Click here for the Zoom link.
URL:https://lincolnsquirrel.com/event/myths-of-the-battle-of-lexington-concord/
LOCATION:Zoom
END:VEVENT
BEGIN:VEVENT
DTSTART;TZID=America/New_York:20250410T193000
DTEND;TZID=America/New_York:20250410T203000
DTSTAMP:20260422T212845
CREATED:20250329T140618Z
LAST-MODIFIED:20250329T143113Z
UID:35344-1744313400-1744317000@lincolnsquirrel.com
SUMMARY:"Planting in Community and Planting for the Future"
DESCRIPTION:Soil ecologist and Lincoln Land Conservation Trust member Rachel Neurath will explore the potential of native plants to support pollinators\, store carbon\, and restore soil health in “Planting in Community and Planting for the Future\,” a Zoom talk on Thursday\, April 10 from 7:30-8:30pm. She’ll explore the above and below ground communities supported by some of the plants that LLCT will sell this year in their plant sale\, as well as planting techniques that nurture soil health while helping plants thrive. Click here to register for the Zoom link.
URL:https://lincolnsquirrel.com/event/planting-in-community-and-planting-for-the-future/
LOCATION:Zoom
END:VEVENT
END:VCALENDAR