BEGIN:VCALENDAR
VERSION:2.0
PRODID:-//The Lincoln Squirrel – News, features and photos from Lincoln, Mass. - ECPv6.15.20//NONSGML v1.0//EN
CALSCALE:GREGORIAN
METHOD:PUBLISH
X-WR-CALNAME:The Lincoln Squirrel – News, features and photos from Lincoln, Mass.
X-ORIGINAL-URL:https://lincolnsquirrel.com
X-WR-CALDESC:Events for The Lincoln Squirrel – News, features and photos from Lincoln, Mass.
REFRESH-INTERVAL;VALUE=DURATION:PT1H
X-Robots-Tag:noindex
X-PUBLISHED-TTL:PT1H
BEGIN:VTIMEZONE
TZID:America/New_York
BEGIN:DAYLIGHT
TZOFFSETFROM:-0500
TZOFFSETTO:-0400
TZNAME:EDT
DTSTART:20240310T070000
END:DAYLIGHT
BEGIN:STANDARD
TZOFFSETFROM:-0400
TZOFFSETTO:-0500
TZNAME:EST
DTSTART:20241103T060000
END:STANDARD
BEGIN:DAYLIGHT
TZOFFSETFROM:-0500
TZOFFSETTO:-0400
TZNAME:EDT
DTSTART:20250309T070000
END:DAYLIGHT
BEGIN:STANDARD
TZOFFSETFROM:-0400
TZOFFSETTO:-0500
TZNAME:EST
DTSTART:20251102T060000
END:STANDARD
BEGIN:DAYLIGHT
TZOFFSETFROM:-0500
TZOFFSETTO:-0400
TZNAME:EDT
DTSTART:20260308T070000
END:DAYLIGHT
BEGIN:STANDARD
TZOFFSETFROM:-0400
TZOFFSETTO:-0500
TZNAME:EST
DTSTART:20261101T060000
END:STANDARD
END:VTIMEZONE
BEGIN:VEVENT
DTSTART;TZID=America/New_York:20250401T190000
DTEND;TZID=America/New_York:20250401T210000
DTSTAMP:20260422T181631
CREATED:20250329T134548Z
LAST-MODIFIED:20250329T134548Z
UID:35333-1743534000-1743541200@lincolnsquirrel.com
SUMMARY:Film: "Inundation District"
DESCRIPTION:MetroWest Climate Solutions will screen the award-winning documentary “Inundation District\,” which explores the environmental implications of Boston’s decision to spend billions of dollars on building a new waterfront district\, on Tuesday\, April 1 from 7-9pm at First Parish Church in Weston (349 Boston Post Rd). The city called its new quarter the Innovation District\, but with seas rising inexorably\, others are calling it the Inundation District. The screening will be followed by a Q&A with David Abel\, one of the film’s directors. Abel is a Pulitzer Prize-winning reporter who covers climate change for The Boston Globe. He is also a professor of the practice at Boston University. 
URL:https://lincolnsquirrel.com/event/film-inundation-district/
LOCATION:First Parish of Weston\, 349 Boston Post Rd.\, Weston\, United States
END:VEVENT
END:VCALENDAR