BEGIN:VCALENDAR
VERSION:2.0
PRODID:-//The Lincoln Squirrel – News, features and photos from Lincoln, Mass. - ECPv6.15.20//NONSGML v1.0//EN
CALSCALE:GREGORIAN
METHOD:PUBLISH
X-WR-CALNAME:The Lincoln Squirrel – News, features and photos from Lincoln, Mass.
X-ORIGINAL-URL:https://lincolnsquirrel.com
X-WR-CALDESC:Events for The Lincoln Squirrel – News, features and photos from Lincoln, Mass.
REFRESH-INTERVAL;VALUE=DURATION:PT1H
X-Robots-Tag:noindex
X-PUBLISHED-TTL:PT1H
BEGIN:VTIMEZONE
TZID:America/New_York
BEGIN:DAYLIGHT
TZOFFSETFROM:-0500
TZOFFSETTO:-0400
TZNAME:EDT
DTSTART:20240310T070000
END:DAYLIGHT
BEGIN:STANDARD
TZOFFSETFROM:-0400
TZOFFSETTO:-0500
TZNAME:EST
DTSTART:20241103T060000
END:STANDARD
BEGIN:DAYLIGHT
TZOFFSETFROM:-0500
TZOFFSETTO:-0400
TZNAME:EDT
DTSTART:20250309T070000
END:DAYLIGHT
BEGIN:STANDARD
TZOFFSETFROM:-0400
TZOFFSETTO:-0500
TZNAME:EST
DTSTART:20251102T060000
END:STANDARD
BEGIN:DAYLIGHT
TZOFFSETFROM:-0500
TZOFFSETTO:-0400
TZNAME:EDT
DTSTART:20260308T070000
END:DAYLIGHT
BEGIN:STANDARD
TZOFFSETFROM:-0400
TZOFFSETTO:-0500
TZNAME:EST
DTSTART:20261101T060000
END:STANDARD
END:VTIMEZONE
BEGIN:VEVENT
DTSTART;TZID=America/New_York:20250322T100000
DTEND;TZID=America/New_York:20250322T110000
DTSTAMP:20260423T020641
CREATED:20250316T210600Z
LAST-MODIFIED:20250316T210600Z
UID:35163-1742637600-1742641200@lincolnsquirrel.com
SUMMARY:Lincoln Legapalooza
DESCRIPTION:The Lincoln GearTicks are hosting a free event for students in grades 1-3 on Saturday\, March 22 from 10:00-11:00am in the Lincoln School Learning Commons. There will be Lego robot demos\, Segway bot battles\, Lego free play\, and FLL Explore team models. See what Lincoln’s First Lego League Explore teams were working on this season and have some fun. More information: hello@gearticks.com.
URL:https://lincolnsquirrel.com/event/lincoln-legapalooza/
LOCATION:Lincoln School Learning Commons\, 6 Ballfield Rd\, Lincoln\, MA\, United States
END:VEVENT
BEGIN:VEVENT
DTSTART;TZID=America/New_York:20250322T100000
DTEND;TZID=America/New_York:20250322T120000
DTSTAMP:20260423T020641
CREATED:20250306T003440Z
LAST-MODIFIED:20250320T195335Z
UID:35031-1742637600-1742644800@lincolnsquirrel.com
SUMMARY:Rep. Gentile appearance
DESCRIPTION:State Rep. Carmine Gentile (D) will speak on important local issues including clean energy and climate plan\, housing\, and transportation followed by a Q&A session on Saturday\, March 22 at 10:00am in Bemis Hall. Paul Shorb\, a Lincoln lawyer\, environmental expert\, and activist\, will also provide an update on issues surrounding the effort to expand the use of Hanscom Field. Sponsored by Lincoln Dems (follow them on Instagram).
URL:https://lincolnsquirrel.com/event/rep-gentile-appearance/
LOCATION:Bemis Hall\, 15 Bedford Rd\, Lincoln\, MA\, 01773\, United States
END:VEVENT
BEGIN:VEVENT
DTSTART;TZID=America/New_York:20250322T190000
DTEND;TZID=America/New_York:20250322T210000
DTSTAMP:20260423T020641
CREATED:20250306T003741Z
LAST-MODIFIED:20250306T003741Z
UID:35039-1742670000-1742677200@lincolnsquirrel.com
SUMMARY:“Rock of Ages\, Youth Edition”
DESCRIPTION:The Lincoln School will perform “Rock of Ages\, Youth Edition” (a 60-minute version of the original musical) on Wednesday\, March 19 at 3:00pm and Thursday through Saturday\, March 20-22 at 7:00pm. It features a dedicated cast and crew of 75 middle school students\, along with dozens of community volunteers. Tickets are $10 (or $5 for students\, seniors\, and LPS employees) and sold at the door — cash or check only.
URL:https://lincolnsquirrel.com/event/rock-of-ages-youth-edition-4/
LOCATION:Lincoln School auditorium
END:VEVENT
END:VCALENDAR