BEGIN:VCALENDAR
VERSION:2.0
PRODID:-//The Lincoln Squirrel – News, features and photos from Lincoln, Mass. - ECPv6.15.20//NONSGML v1.0//EN
CALSCALE:GREGORIAN
METHOD:PUBLISH
X-ORIGINAL-URL:https://lincolnsquirrel.com
X-WR-CALDESC:Events for The Lincoln Squirrel – News, features and photos from Lincoln, Mass.
REFRESH-INTERVAL;VALUE=DURATION:PT1H
X-Robots-Tag:noindex
X-PUBLISHED-TTL:PT1H
BEGIN:VTIMEZONE
TZID:America/New_York
BEGIN:DAYLIGHT
TZOFFSETFROM:-0500
TZOFFSETTO:-0400
TZNAME:EDT
DTSTART:20240310T070000
END:DAYLIGHT
BEGIN:STANDARD
TZOFFSETFROM:-0400
TZOFFSETTO:-0500
TZNAME:EST
DTSTART:20241103T060000
END:STANDARD
BEGIN:DAYLIGHT
TZOFFSETFROM:-0500
TZOFFSETTO:-0400
TZNAME:EDT
DTSTART:20250309T070000
END:DAYLIGHT
BEGIN:STANDARD
TZOFFSETFROM:-0400
TZOFFSETTO:-0500
TZNAME:EST
DTSTART:20251102T060000
END:STANDARD
BEGIN:DAYLIGHT
TZOFFSETFROM:-0500
TZOFFSETTO:-0400
TZNAME:EDT
DTSTART:20260308T070000
END:DAYLIGHT
BEGIN:STANDARD
TZOFFSETFROM:-0400
TZOFFSETTO:-0500
TZNAME:EST
DTSTART:20261101T060000
END:STANDARD
END:VTIMEZONE
BEGIN:VEVENT
DTSTART;TZID=America/New_York:20250321T123000
DTEND;TZID=America/New_York:20250321T133000
DTSTAMP:20260423T164919
CREATED:20250306T003027Z
LAST-MODIFIED:20250306T003027Z
UID:35024-1742560200-1742563800@lincolnsquirrel.com
SUMMARY:Should I stay or should I go? Exploring the options
DESCRIPTION:Part 2 of the popular program on home care\, resources for staying at home\, and options for independent\, assisted living\, and memory care. Sponsored by the Council on Aging & Human Services.
URL:https://lincolnsquirrel.com/event/should-i-stay-or-should-i-go-exploring-the-options/
LOCATION:Bemis Hall\, 15 Bedford Rd\, Lincoln\, MA\, 01773\, United States
END:VEVENT
BEGIN:VEVENT
DTSTART;TZID=America/New_York:20250321T190000
DTEND;TZID=America/New_York:20250321T210000
DTSTAMP:20260423T164919
CREATED:20250306T003703Z
LAST-MODIFIED:20250306T003703Z
UID:35037-1742583600-1742590800@lincolnsquirrel.com
SUMMARY:“Rock of Ages\, Youth Edition”
DESCRIPTION:The Lincoln School will perform “Rock of Ages\, Youth Edition” (a 60-minute version of the original musical) on Wednesday\, March 19 at 3:00pm and Thursday through Saturday\, March 20-22 at 7:00pm. It features a dedicated cast and crew of 75 middle school students\, along with dozens of community volunteers. Tickets are $10 (or $5 for students\, seniors\, and LPS employees) and sold at the door — cash or check only.
URL:https://lincolnsquirrel.com/event/rock-of-ages-youth-edition-3/
LOCATION:Lincoln School auditorium
END:VEVENT
END:VCALENDAR