BEGIN:VCALENDAR
VERSION:2.0
PRODID:-//The Lincoln Squirrel – News, features and photos from Lincoln, Mass. - ECPv6.15.20//NONSGML v1.0//EN
CALSCALE:GREGORIAN
METHOD:PUBLISH
X-WR-CALNAME:The Lincoln Squirrel – News, features and photos from Lincoln, Mass.
X-ORIGINAL-URL:https://lincolnsquirrel.com
X-WR-CALDESC:Events for The Lincoln Squirrel – News, features and photos from Lincoln, Mass.
REFRESH-INTERVAL;VALUE=DURATION:PT1H
X-Robots-Tag:noindex
X-PUBLISHED-TTL:PT1H
BEGIN:VTIMEZONE
TZID:America/New_York
BEGIN:DAYLIGHT
TZOFFSETFROM:-0500
TZOFFSETTO:-0400
TZNAME:EDT
DTSTART:20240310T070000
END:DAYLIGHT
BEGIN:STANDARD
TZOFFSETFROM:-0400
TZOFFSETTO:-0500
TZNAME:EST
DTSTART:20241103T060000
END:STANDARD
BEGIN:DAYLIGHT
TZOFFSETFROM:-0500
TZOFFSETTO:-0400
TZNAME:EDT
DTSTART:20250309T070000
END:DAYLIGHT
BEGIN:STANDARD
TZOFFSETFROM:-0400
TZOFFSETTO:-0500
TZNAME:EST
DTSTART:20251102T060000
END:STANDARD
BEGIN:DAYLIGHT
TZOFFSETFROM:-0500
TZOFFSETTO:-0400
TZNAME:EDT
DTSTART:20260308T070000
END:DAYLIGHT
BEGIN:STANDARD
TZOFFSETFROM:-0400
TZOFFSETTO:-0500
TZNAME:EST
DTSTART:20261101T060000
END:STANDARD
END:VTIMEZONE
BEGIN:VEVENT
DTSTART;TZID=America/New_York:20250313T190000
DTEND;TZID=America/New_York:20250313T190000
DTSTAMP:20260422T223612
CREATED:20250205T004542Z
LAST-MODIFIED:20250227T031011Z
UID:34592-1741892400-1741892400@lincolnsquirrel.com
SUMMARY:"Protecting Our Canopy: The Critical Role of Tree Preservation"
DESCRIPTION:“Protecting Our Canopy: The Critical Role of Tree Preservation” (March 13 at 7:00pm\, Zoom only). 
URL:https://lincolnsquirrel.com/event/protecting-our-canopy-the-critical-role-of-tree-preservation/
LOCATION:Zoom
END:VEVENT
BEGIN:VEVENT
DTSTART;TZID=America/New_York:20250313T190000
DTEND;TZID=America/New_York:20250313T200000
DTSTAMP:20260422T223612
CREATED:20250306T003331Z
LAST-MODIFIED:20250306T003331Z
UID:35028-1741892400-1741896000@lincolnsquirrel.com
SUMMARY:Women in the American Revolution
DESCRIPTION:“Women in the American Revolution with Audrey Stuck-Girard\,” part of the Lincoln250 Series\, takes place on Thursday\, March 13 from 7:00-8:00pm in the Tarbell Room. More information. Sponsored by the Friends of Lincoln Library.
URL:https://lincolnsquirrel.com/event/women-in-the-american-revolution/
LOCATION:Lincoln Public Library\, 3 Bedford Rd\, Lincoln\, MA\, United States
END:VEVENT
END:VCALENDAR