BEGIN:VCALENDAR
VERSION:2.0
PRODID:-//The Lincoln Squirrel – News, features and photos from Lincoln, Mass. - ECPv6.15.20//NONSGML v1.0//EN
CALSCALE:GREGORIAN
METHOD:PUBLISH
X-WR-CALNAME:The Lincoln Squirrel – News, features and photos from Lincoln, Mass.
X-ORIGINAL-URL:https://lincolnsquirrel.com
X-WR-CALDESC:Events for The Lincoln Squirrel – News, features and photos from Lincoln, Mass.
REFRESH-INTERVAL;VALUE=DURATION:PT1H
X-Robots-Tag:noindex
X-PUBLISHED-TTL:PT1H
BEGIN:VTIMEZONE
TZID:America/New_York
BEGIN:DAYLIGHT
TZOFFSETFROM:-0500
TZOFFSETTO:-0400
TZNAME:EDT
DTSTART:20240310T070000
END:DAYLIGHT
BEGIN:STANDARD
TZOFFSETFROM:-0400
TZOFFSETTO:-0500
TZNAME:EST
DTSTART:20241103T060000
END:STANDARD
BEGIN:DAYLIGHT
TZOFFSETFROM:-0500
TZOFFSETTO:-0400
TZNAME:EDT
DTSTART:20250309T070000
END:DAYLIGHT
BEGIN:STANDARD
TZOFFSETFROM:-0400
TZOFFSETTO:-0500
TZNAME:EST
DTSTART:20251102T060000
END:STANDARD
BEGIN:DAYLIGHT
TZOFFSETFROM:-0500
TZOFFSETTO:-0400
TZNAME:EDT
DTSTART:20260308T070000
END:DAYLIGHT
BEGIN:STANDARD
TZOFFSETFROM:-0400
TZOFFSETTO:-0500
TZNAME:EST
DTSTART:20261101T060000
END:STANDARD
END:VTIMEZONE
BEGIN:VEVENT
DTSTART;TZID=America/New_York:20250307T123000
DTEND;TZID=America/New_York:20250307T133000
DTSTAMP:20260423T020601
CREATED:20250306T002645Z
LAST-MODIFIED:20250306T003815Z
UID:35014-1741350600-1741354200@lincolnsquirrel.com
SUMMARY:Sherpa stories
DESCRIPTION:Lincoln resident and author Peter Von Mertens shares stories and photos of his time in the Peace Corps in Nepal from 1966-1968. Sponsored by the Council on Aging & Human Services.
URL:https://lincolnsquirrel.com/event/sherpa-stories/
LOCATION:Bemis Hall\, 15 Bedford Rd\, Lincoln\, MA\, 01773\, United States
END:VEVENT
BEGIN:VEVENT
DTSTART;TZID=America/New_York:20250307T153000
DTEND;TZID=America/New_York:20250307T170000
DTSTAMP:20260423T020601
CREATED:20250225T004933Z
LAST-MODIFIED:20250227T030911Z
UID:34898-1741361400-1741366800@lincolnsquirrel.com
SUMMARY:Needle felting bee
DESCRIPTION:Make your own fuzzy bee using wool fibers and flowers for this friendly little pollinator to buzz around. For ages 13+. Registration required.
URL:https://lincolnsquirrel.com/event/needle-felted-bee-pop-up-art-school/
LOCATION:Lincoln Public Library\, 3 Bedford Rd\, Lincoln\, MA\, United States
END:VEVENT
END:VCALENDAR