BEGIN:VCALENDAR
VERSION:2.0
PRODID:-//The Lincoln Squirrel – News, features and photos from Lincoln, Mass. - ECPv6.15.20//NONSGML v1.0//EN
CALSCALE:GREGORIAN
METHOD:PUBLISH
X-ORIGINAL-URL:https://lincolnsquirrel.com
X-WR-CALDESC:Events for The Lincoln Squirrel – News, features and photos from Lincoln, Mass.
REFRESH-INTERVAL;VALUE=DURATION:PT1H
X-Robots-Tag:noindex
X-PUBLISHED-TTL:PT1H
BEGIN:VTIMEZONE
TZID:America/New_York
BEGIN:DAYLIGHT
TZOFFSETFROM:-0500
TZOFFSETTO:-0400
TZNAME:EDT
DTSTART:20240310T070000
END:DAYLIGHT
BEGIN:STANDARD
TZOFFSETFROM:-0400
TZOFFSETTO:-0500
TZNAME:EST
DTSTART:20241103T060000
END:STANDARD
BEGIN:DAYLIGHT
TZOFFSETFROM:-0500
TZOFFSETTO:-0400
TZNAME:EDT
DTSTART:20250309T070000
END:DAYLIGHT
BEGIN:STANDARD
TZOFFSETFROM:-0400
TZOFFSETTO:-0500
TZNAME:EST
DTSTART:20251102T060000
END:STANDARD
BEGIN:DAYLIGHT
TZOFFSETFROM:-0500
TZOFFSETTO:-0400
TZNAME:EDT
DTSTART:20260308T070000
END:DAYLIGHT
BEGIN:STANDARD
TZOFFSETFROM:-0400
TZOFFSETTO:-0500
TZNAME:EST
DTSTART:20261101T060000
END:STANDARD
END:VTIMEZONE
BEGIN:VEVENT
DTSTART;TZID=America/New_York:20250306T160000
DTEND;TZID=America/New_York:20250306T170000
DTSTAMP:20260423T134335
CREATED:20250225T004839Z
LAST-MODIFIED:20250225T004839Z
UID:34894-1741276800-1741280400@lincolnsquirrel.com
SUMMARY:Lincoln250 Revolutionary War Writing: Cursive Workshop for Kids
DESCRIPTION:Write like it’s 1775! In this three-week workshop\, children in grades 4-6 will learn the different formations for cursive lower- and uppercase letters\, practice writing a variety of words (including their names!)\, and look at historical documents from the Revolutionary War era. Registration required.
URL:https://lincolnsquirrel.com/event/lincoln250-revolutionary-war-writing-cursive-workshop-for-kids/
LOCATION:Lincoln Public Library\, 3 Bedford Rd\, Lincoln\, MA\, United States
END:VEVENT
BEGIN:VEVENT
DTSTART;TZID=America/New_York:20250306T183000
DTEND;TZID=America/New_York:20250306T200000
DTSTAMP:20260423T134335
CREATED:20250225T004350Z
LAST-MODIFIED:20250225T004350Z
UID:34883-1741285800-1741291200@lincolnsquirrel.com
SUMMARY:"Literacy Liberates"
DESCRIPTION:Concord & Concord-Carlisle SEPAC\, along with Lincoln SEPAC (Special Education Parent Advisory Council)\, presents “Literacy Liberates” on Thursday\, March 6 at 6:30pm at Concord-Carlisle High School. Kareem Weaver\, an advocate for literacy as a civil right\, will be the keynote speaker. He will be joined by panelists Milly Arbaje-Thomas (CEO of METCO)\, Eavan Miles Mason (CEO of KidCenterED)\, and Katherine Tarca\, Director of Humanities & Literacy for the Mass. Department of Elementary and Secondary Education.  Doors open for meet and greet at 5:30pm. Child care will be provided. Registration required; click here for more information and to register.
URL:https://lincolnsquirrel.com/event/literacy-liberates/
LOCATION:MA
END:VEVENT
BEGIN:VEVENT
DTSTART;TZID=America/New_York:20250306T190000
DTEND;TZID=America/New_York:20250306T220000
DTSTAMP:20260423T134335
CREATED:20250205T204355Z
LAST-MODIFIED:20250205T204749Z
UID:34683-1741287600-1741298400@lincolnsquirrel.com
SUMMARY:Film: "The War Around Us"
DESCRIPTION:This riveting\, introspective film focuses on Ayman Mohyeldin (now an MSNBC anchor) and Sherine Tadros\, the only two international journalists in Gaza when Israel bombarded and invaded in 2008. A story of friendship under stress\, conflict-journalism ethics\, and the experience that Gazans lived through. View trailer. Sponsored by GRALTA.
URL:https://lincolnsquirrel.com/event/film-the-war-around-us/
LOCATION:Bemis Hall\, 15 Bedford Rd\, Lincoln\, MA\, 01773\, United States
END:VEVENT
END:VCALENDAR