BEGIN:VCALENDAR
VERSION:2.0
PRODID:-//The Lincoln Squirrel – News, features and photos from Lincoln, Mass. - ECPv6.15.20//NONSGML v1.0//EN
CALSCALE:GREGORIAN
METHOD:PUBLISH
X-WR-CALNAME:The Lincoln Squirrel – News, features and photos from Lincoln, Mass.
X-ORIGINAL-URL:https://lincolnsquirrel.com
X-WR-CALDESC:Events for The Lincoln Squirrel – News, features and photos from Lincoln, Mass.
REFRESH-INTERVAL;VALUE=DURATION:PT1H
X-Robots-Tag:noindex
X-PUBLISHED-TTL:PT1H
BEGIN:VTIMEZONE
TZID:America/New_York
BEGIN:DAYLIGHT
TZOFFSETFROM:-0500
TZOFFSETTO:-0400
TZNAME:EDT
DTSTART:20240310T070000
END:DAYLIGHT
BEGIN:STANDARD
TZOFFSETFROM:-0400
TZOFFSETTO:-0500
TZNAME:EST
DTSTART:20241103T060000
END:STANDARD
BEGIN:DAYLIGHT
TZOFFSETFROM:-0500
TZOFFSETTO:-0400
TZNAME:EDT
DTSTART:20250309T070000
END:DAYLIGHT
BEGIN:STANDARD
TZOFFSETFROM:-0400
TZOFFSETTO:-0500
TZNAME:EST
DTSTART:20251102T060000
END:STANDARD
BEGIN:DAYLIGHT
TZOFFSETFROM:-0500
TZOFFSETTO:-0400
TZNAME:EDT
DTSTART:20260308T070000
END:DAYLIGHT
BEGIN:STANDARD
TZOFFSETFROM:-0400
TZOFFSETTO:-0500
TZNAME:EST
DTSTART:20261101T060000
END:STANDARD
END:VTIMEZONE
BEGIN:VEVENT
DTSTART;TZID=America/New_York:20250226T190000
DTEND;TZID=America/New_York:20250226T203000
DTSTAMP:20260423T001032
CREATED:20250219T232759Z
LAST-MODIFIED:20250219T232759Z
UID:34797-1740596400-1740601800@lincolnsquirrel.com
SUMMARY:Domestic Violence Roundtable session
DESCRIPTION:On Wednesday\, Feb. 26 at 7:00pm\, the Sudbury-Wayland-Lincoln Domestic Violence Roundtable will host a conversation with a parent whose teen was in a dating relationship with a person who mistreated her. This program will take place at the Goodnow Library (21 Concord Road\, Sudbury) and on Zoom — register for the link here. The parent speaker will talk about what she didn’t know to look and listen for\, and what surprised her as she learned more about her teen’s relationship.  This program is for parents/guardians/grandparents\, educators\, coaches\, youth advisors\, healthcare professionals\, and anyone else who has teens or young adults in their life.
URL:https://lincolnsquirrel.com/event/domestic-violence-roundtable-session/
LOCATION:MA
END:VEVENT
END:VCALENDAR