BEGIN:VCALENDAR
VERSION:2.0
PRODID:-//The Lincoln Squirrel – News, features and photos from Lincoln, Mass. - ECPv6.15.20//NONSGML v1.0//EN
CALSCALE:GREGORIAN
METHOD:PUBLISH
X-WR-CALNAME:The Lincoln Squirrel – News, features and photos from Lincoln, Mass.
X-ORIGINAL-URL:https://lincolnsquirrel.com
X-WR-CALDESC:Events for The Lincoln Squirrel – News, features and photos from Lincoln, Mass.
REFRESH-INTERVAL;VALUE=DURATION:PT1H
X-Robots-Tag:noindex
X-PUBLISHED-TTL:PT1H
BEGIN:VTIMEZONE
TZID:America/New_York
BEGIN:DAYLIGHT
TZOFFSETFROM:-0500
TZOFFSETTO:-0400
TZNAME:EDT
DTSTART:20240310T070000
END:DAYLIGHT
BEGIN:STANDARD
TZOFFSETFROM:-0400
TZOFFSETTO:-0500
TZNAME:EST
DTSTART:20241103T060000
END:STANDARD
BEGIN:DAYLIGHT
TZOFFSETFROM:-0500
TZOFFSETTO:-0400
TZNAME:EDT
DTSTART:20250309T070000
END:DAYLIGHT
BEGIN:STANDARD
TZOFFSETFROM:-0400
TZOFFSETTO:-0500
TZNAME:EST
DTSTART:20251102T060000
END:STANDARD
BEGIN:DAYLIGHT
TZOFFSETFROM:-0500
TZOFFSETTO:-0400
TZNAME:EDT
DTSTART:20260308T070000
END:DAYLIGHT
BEGIN:STANDARD
TZOFFSETFROM:-0400
TZOFFSETTO:-0500
TZNAME:EST
DTSTART:20261101T060000
END:STANDARD
END:VTIMEZONE
BEGIN:VEVENT
DTSTART;TZID=America/New_York:20250223T140000
DTEND;TZID=America/New_York:20250223T160000
DTSTAMP:20260423T050254
CREATED:20250205T203958Z
LAST-MODIFIED:20250205T203958Z
UID:34681-1740319200-1740326400@lincolnsquirrel.com
SUMMARY:Film: "Tantura"
DESCRIPTION:In the war of 1948\, hundreds of Palestinian villages were depopulated. Israelis call it The War of Independence; Palestinians call it the Nakba. The film examines one village and why discussion of the Nakba is taboo in Israeli schools and society. View trailer. Sponsored by GRALTA.
URL:https://lincolnsquirrel.com/event/film-tantura-2/
LOCATION:Lincoln Public Library\, 3 Bedford Rd\, Lincoln\, MA\, United States
END:VEVENT
BEGIN:VEVENT
DTSTART;TZID=America/New_York:20250223T193000
DTEND;TZID=America/New_York:20250223T210000
DTSTAMP:20260423T050254
CREATED:20250205T170639Z
LAST-MODIFIED:20250219T233059Z
UID:34649-1740339000-1740344400@lincolnsquirrel.com
SUMMARY:Music Street concert
DESCRIPTION:Diane Katzenberg Braun \nFive Music Street musicians led by Lincoln pianist Diane Katzenberg Braun will present “Spinning the Globe: A Rich Heritage” with selections from America to Italy\, Hungary\, Argentina\, France\, and Spain on Sunday\, Feb. 23 at 7:30pm in Bemis Hall. This free concert is made possible in part by a grant from the Lincoln Cultural Council\, which is supported by the Mass. Cultural Council\, a state agency.
URL:https://lincolnsquirrel.com/event/music-street-concert/
LOCATION:Bemis Hall\, 15 Bedford Rd\, Lincoln\, MA\, 01773\, United States
END:VEVENT
END:VCALENDAR